BEGIN:VCALENDAR
VERSION:2.0
PRODID:-//IMD Genève - ECPv6.15.16//NONSGML v1.0//EN
CALSCALE:GREGORIAN
METHOD:PUBLISH
X-ORIGINAL-URL:https://imd-ge.ch
X-WR-CALDESC:Évènements pour IMD Genève
REFRESH-INTERVAL;VALUE=DURATION:PT1H
X-Robots-Tag:noindex
X-PUBLISHED-TTL:PT1H
BEGIN:VTIMEZONE
TZID:Europe/Paris
BEGIN:DAYLIGHT
TZOFFSETFROM:+0100
TZOFFSETTO:+0200
TZNAME:CEST
DTSTART:20180325T010000
END:DAYLIGHT
BEGIN:STANDARD
TZOFFSETFROM:+0200
TZOFFSETTO:+0100
TZNAME:CET
DTSTART:20181028T010000
END:STANDARD
BEGIN:DAYLIGHT
TZOFFSETFROM:+0100
TZOFFSETTO:+0200
TZNAME:CEST
DTSTART:20190331T010000
END:DAYLIGHT
BEGIN:STANDARD
TZOFFSETFROM:+0200
TZOFFSETTO:+0100
TZNAME:CET
DTSTART:20191027T010000
END:STANDARD
BEGIN:DAYLIGHT
TZOFFSETFROM:+0100
TZOFFSETTO:+0200
TZNAME:CEST
DTSTART:20200329T010000
END:DAYLIGHT
BEGIN:STANDARD
TZOFFSETFROM:+0200
TZOFFSETTO:+0100
TZNAME:CET
DTSTART:20201025T010000
END:STANDARD
END:VTIMEZONE
BEGIN:VEVENT
DTSTART;VALUE=DATE:20190603
DTEND;VALUE=DATE:20190604
DTSTAMP:20260424T004326
CREATED:20190105T131252Z
LAST-MODIFIED:20190201T110836Z
UID:201-1559520000-1559606399@imd-ge.ch
SUMMARY:Visite SUPERIEURS
DESCRIPTION:
URL:https://imd-ge.ch/event/visite-superieurs-3/
CATEGORIES:valuation SUPERIEURS
END:VEVENT
BEGIN:VEVENT
DTSTART;VALUE=DATE:20190605
DTEND;VALUE=DATE:20190606
DTSTAMP:20260424T004326
CREATED:20190105T131223Z
LAST-MODIFIED:20190201T110854Z
UID:199-1559692800-1559779199@imd-ge.ch
SUMMARY:Visite SUPERIEURS
DESCRIPTION:
URL:https://imd-ge.ch/event/visite-superieurs-2/
CATEGORIES:valuation SUPERIEURS
END:VEVENT
BEGIN:VEVENT
DTSTART;VALUE=DATE:20190611
DTEND;VALUE=DATE:20190612
DTSTAMP:20260424T004326
CREATED:20190105T131449Z
LAST-MODIFIED:20190201T110949Z
UID:205-1560211200-1560297599@imd-ge.ch
SUMMARY:Visite SUPERIEURS
DESCRIPTION:
URL:https://imd-ge.ch/event/visite-superieurs-5/
CATEGORIES:valuation SUPERIEURS
END:VEVENT
BEGIN:VEVENT
DTSTART;TZID=Europe/Paris:20190617T080000
DTEND;TZID=Europe/Paris:20190617T170000
DTSTAMP:20260424T004326
CREATED:20180912T143508Z
LAST-MODIFIED:20190105T124854Z
UID:165-1560758400-1560790800@imd-ge.ch
SUMMARY:CFC2019 - Evaluation du TPI par les supérieurs (positions 1 et 2)
DESCRIPTION:
URL:https://imd-ge.ch/event/cfc2019-evaluation-du-tpi-par-les-superieurs-positions-1-et-2/
CATEGORIES:valuation SUPERIEURS
END:VEVENT
BEGIN:VEVENT
DTSTART;TZID=Europe/Paris:20190618T080000
DTEND;TZID=Europe/Paris:20190618T170000
DTSTAMP:20260424T004326
CREATED:20180912T144455Z
LAST-MODIFIED:20190105T125124Z
UID:174-1560844800-1560877200@imd-ge.ch
SUMMARY:CFC2019 - Evaluation du TPI par les supérieurs (positions 1 et 2)
DESCRIPTION:
URL:https://imd-ge.ch/event/cfc2019-evaluation-du-tpi-par-les-superieurs-positions-1-et-2-2/
CATEGORIES:valuation SUPERIEURS
END:VEVENT
END:VCALENDAR