BEGIN:VCALENDAR
VERSION:2.0
PRODID:-//IMD Genève - ECPv6.15.16//NONSGML v1.0//EN
CALSCALE:GREGORIAN
METHOD:PUBLISH
X-WR-CALNAME:IMD Genève
X-ORIGINAL-URL:https://imd-ge.ch
X-WR-CALDESC:Évènements pour IMD Genève
REFRESH-INTERVAL;VALUE=DURATION:PT1H
X-Robots-Tag:noindex
X-PUBLISHED-TTL:PT1H
BEGIN:VTIMEZONE
TZID:Europe/Paris
BEGIN:DAYLIGHT
TZOFFSETFROM:+0100
TZOFFSETTO:+0200
TZNAME:CEST
DTSTART:20180325T010000
END:DAYLIGHT
BEGIN:STANDARD
TZOFFSETFROM:+0200
TZOFFSETTO:+0100
TZNAME:CET
DTSTART:20181028T010000
END:STANDARD
BEGIN:DAYLIGHT
TZOFFSETFROM:+0100
TZOFFSETTO:+0200
TZNAME:CEST
DTSTART:20190331T010000
END:DAYLIGHT
BEGIN:STANDARD
TZOFFSETFROM:+0200
TZOFFSETTO:+0100
TZNAME:CET
DTSTART:20191027T010000
END:STANDARD
BEGIN:DAYLIGHT
TZOFFSETFROM:+0100
TZOFFSETTO:+0200
TZNAME:CEST
DTSTART:20200329T010000
END:DAYLIGHT
BEGIN:STANDARD
TZOFFSETFROM:+0200
TZOFFSETTO:+0100
TZNAME:CET
DTSTART:20201025T010000
END:STANDARD
END:VTIMEZONE
BEGIN:VEVENT
DTSTART;VALUE=DATE:20190514
DTEND;VALUE=DATE:20190515
DTSTAMP:20260424T160154
CREATED:20190201T104145Z
LAST-MODIFIED:20190201T104145Z
UID:267-1557792000-1557878399@imd-ge.ch
SUMMARY:Cours théorique à l'horaire
DESCRIPTION:
URL:https://imd-ge.ch/event/cours-theorique-a-lhoraire-2/
CATEGORIES:Jours NON-CFC
END:VEVENT
BEGIN:VEVENT
DTSTART;VALUE=DATE:20190521
DTEND;VALUE=DATE:20190522
DTSTAMP:20260424T160154
CREATED:20190105T125941Z
LAST-MODIFIED:20190105T131821Z
UID:193-1558396800-1558483199@imd-ge.ch
SUMMARY:Cours théorique à l'horaire
DESCRIPTION:
URL:https://imd-ge.ch/event/cours-theorique-a-lhoraire/
CATEGORIES:Jours NON-CFC
END:VEVENT
BEGIN:VEVENT
DTSTART;VALUE=DATE:20190527
DTEND;VALUE=DATE:20190601
DTSTAMP:20260424T160154
CREATED:20190105T121519Z
LAST-MODIFIED:20190308T105505Z
UID:181-1558915200-1559347199@imd-ge.ch
SUMMARY:Examens MPA
DESCRIPTION:
URL:https://imd-ge.ch/event/examens-mpa/
CATEGORIES:Jours NON-CFC
END:VEVENT
BEGIN:VEVENT
DTSTART;VALUE=DATE:20190531
DTEND;VALUE=DATE:20190601
DTSTAMP:20260424T160154
CREATED:20190105T121624Z
LAST-MODIFIED:20190105T123354Z
UID:183-1559260800-1559347199@imd-ge.ch
SUMMARY:Examens Culture Générale
DESCRIPTION:
URL:https://imd-ge.ch/event/examens-culture-generale/
CATEGORIES:Jours NON-CFC
END:VEVENT
END:VCALENDAR