BEGIN:VCALENDAR
VERSION:2.0
PRODID:-//IMD Genève - ECPv6.15.16//NONSGML v1.0//EN
CALSCALE:GREGORIAN
METHOD:PUBLISH
X-ORIGINAL-URL:https://imd-ge.ch
X-WR-CALDESC:Évènements pour IMD Genève
REFRESH-INTERVAL;VALUE=DURATION:PT1H
X-Robots-Tag:noindex
X-PUBLISHED-TTL:PT1H
BEGIN:VTIMEZONE
TZID:Europe/Paris
BEGIN:DAYLIGHT
TZOFFSETFROM:+0100
TZOFFSETTO:+0200
TZNAME:CEST
DTSTART:20190331T010000
END:DAYLIGHT
BEGIN:STANDARD
TZOFFSETFROM:+0200
TZOFFSETTO:+0100
TZNAME:CET
DTSTART:20191027T010000
END:STANDARD
BEGIN:DAYLIGHT
TZOFFSETFROM:+0100
TZOFFSETTO:+0200
TZNAME:CEST
DTSTART:20200329T010000
END:DAYLIGHT
BEGIN:STANDARD
TZOFFSETFROM:+0200
TZOFFSETTO:+0100
TZNAME:CET
DTSTART:20201025T010000
END:STANDARD
BEGIN:DAYLIGHT
TZOFFSETFROM:+0100
TZOFFSETTO:+0200
TZNAME:CEST
DTSTART:20210328T010000
END:DAYLIGHT
BEGIN:STANDARD
TZOFFSETFROM:+0200
TZOFFSETTO:+0100
TZNAME:CET
DTSTART:20211031T010000
END:STANDARD
END:VTIMEZONE
BEGIN:VEVENT
DTSTART;VALUE=DATE:20200210
DTEND;VALUE=DATE:20200215
DTSTAMP:20260423T171603
CREATED:20191014T074506Z
LAST-MODIFIED:20191014T074506Z
UID:352-1581292800-1581724799@imd-ge.ch
SUMMARY:Vacances de février
DESCRIPTION:
URL:https://imd-ge.ch/event/vacances-de-fevrier-2/
CATEGORIES:Jours NON-CFC
END:VEVENT
BEGIN:VEVENT
DTSTART;TZID=Europe/Paris:20200226T121500
DTEND;TZID=Europe/Paris:20200226T131500
DTSTAMP:20260423T171603
CREATED:20191014T075721Z
LAST-MODIFIED:20191014T075750Z
UID:361-1582719300-1582722900@imd-ge.ch
SUMMARY:CFC2020 - Séance Chef-experts / Supérieurs / Direction ecole
DESCRIPTION:
URL:https://imd-ge.ch/event/cfc2020-seance-chef-experts-superieurs-direction-ecole/
END:VEVENT
END:VCALENDAR