BEGIN:VCALENDAR
VERSION:2.0
PRODID:-//IMD Genève - ECPv6.15.16//NONSGML v1.0//EN
CALSCALE:GREGORIAN
METHOD:PUBLISH
X-WR-CALNAME:IMD Genève
X-ORIGINAL-URL:https://imd-ge.ch
X-WR-CALDESC:Évènements pour IMD Genève
REFRESH-INTERVAL;VALUE=DURATION:PT1H
X-Robots-Tag:noindex
X-PUBLISHED-TTL:PT1H
BEGIN:VTIMEZONE
TZID:Europe/Paris
BEGIN:DAYLIGHT
TZOFFSETFROM:+0100
TZOFFSETTO:+0200
TZNAME:CEST
DTSTART:20190331T010000
END:DAYLIGHT
BEGIN:STANDARD
TZOFFSETFROM:+0200
TZOFFSETTO:+0100
TZNAME:CET
DTSTART:20191027T010000
END:STANDARD
BEGIN:DAYLIGHT
TZOFFSETFROM:+0100
TZOFFSETTO:+0200
TZNAME:CEST
DTSTART:20200329T010000
END:DAYLIGHT
BEGIN:STANDARD
TZOFFSETFROM:+0200
TZOFFSETTO:+0100
TZNAME:CET
DTSTART:20201025T010000
END:STANDARD
BEGIN:DAYLIGHT
TZOFFSETFROM:+0100
TZOFFSETTO:+0200
TZNAME:CEST
DTSTART:20210328T010000
END:DAYLIGHT
BEGIN:STANDARD
TZOFFSETFROM:+0200
TZOFFSETTO:+0100
TZNAME:CET
DTSTART:20211031T010000
END:STANDARD
END:VTIMEZONE
BEGIN:VEVENT
DTSTART;TZID=Europe/Paris:20200512T080000
DTEND;TZID=Europe/Paris:20200512T170000
DTSTAMP:20260423T130646
CREATED:20191001T093729Z
LAST-MODIFIED:20191001T093753Z
UID:311-1589270400-1589302800@imd-ge.ch
SUMMARY:CFC2020 - CP - Examen de connaissances professionnelles
DESCRIPTION:
URL:https://imd-ge.ch/event/cfc2020-cp-examen-de-connaissances-professionnelles/
END:VEVENT
BEGIN:VEVENT
DTSTART;VALUE=DATE:20200513
DTEND;VALUE=DATE:20200516
DTSTAMP:20260423T130646
CREATED:20191001T093142Z
LAST-MODIFIED:20191001T093142Z
UID:305-1589328000-1589587199@imd-ge.ch
SUMMARY:CFC2020 - TPI   8H
DESCRIPTION:
URL:https://imd-ge.ch/event/cfc2020-tpi-8h/
LOCATION:Salle 307\, Rue Necker 2\, Genève\, 1201\, Suisse
END:VEVENT
BEGIN:VEVENT
DTSTART;VALUE=DATE:20200518
DTEND;VALUE=DATE:20200519
DTSTAMP:20260423T130646
CREATED:20191001T094030Z
LAST-MODIFIED:20191001T094030Z
UID:315-1589760000-1589846399@imd-ge.ch
SUMMARY:CFC2020 - TPI   8H
DESCRIPTION:
URL:https://imd-ge.ch/event/cfc2020-tpi-8h-2/
LOCATION:Salle 307\, Rue Necker 2\, Genève\, 1201\, Suisse
END:VEVENT
BEGIN:VEVENT
DTSTART;VALUE=DATE:20200519
DTEND;VALUE=DATE:20200520
DTSTAMP:20260423T130646
CREATED:20191001T093903Z
LAST-MODIFIED:20191001T093903Z
UID:313-1589846400-1589932799@imd-ge.ch
SUMMARY:Cours théorique à l'horaire
DESCRIPTION:
URL:https://imd-ge.ch/event/cours-theorique-a-lhoraire-3/
CATEGORIES:Jours NON-CFC
END:VEVENT
BEGIN:VEVENT
DTSTART;VALUE=DATE:20200520
DTEND;VALUE=DATE:20200521
DTSTAMP:20260423T130646
CREATED:20191001T094102Z
LAST-MODIFIED:20191001T094157Z
UID:317-1589932800-1590019199@imd-ge.ch
SUMMARY:CFC2020 - TPI   8H
DESCRIPTION:
URL:https://imd-ge.ch/event/cfc2020-tpi-8h-3/
LOCATION:Salle 307\, Rue Necker 2\, Genève\, 1201\, Suisse
END:VEVENT
BEGIN:VEVENT
DTSTART;VALUE=DATE:20200521
DTEND;VALUE=DATE:20200522
DTSTAMP:20260423T130646
CREATED:20191001T094311Z
LAST-MODIFIED:20191001T094311Z
UID:321-1590019200-1590105599@imd-ge.ch
SUMMARY:Ascension
DESCRIPTION:
URL:https://imd-ge.ch/event/ascension/
CATEGORIES:Jours NON-CFC
END:VEVENT
BEGIN:VEVENT
DTSTART;VALUE=DATE:20200522
DTEND;VALUE=DATE:20200523
DTSTAMP:20260423T130646
CREATED:20191001T094229Z
LAST-MODIFIED:20191001T094229Z
UID:319-1590105600-1590191999@imd-ge.ch
SUMMARY:CFC2020 - TPI   8H
DESCRIPTION:
URL:https://imd-ge.ch/event/cfc2020-tpi-8h-4/
LOCATION:Salle 307\, Rue Necker 2\, Genève\, 1201\, Suisse
END:VEVENT
BEGIN:VEVENT
DTSTART;VALUE=DATE:20200525
DTEND;VALUE=DATE:20200530
DTSTAMP:20260423T130646
CREATED:20191001T093324Z
LAST-MODIFIED:20191001T093324Z
UID:307-1590364800-1590796799@imd-ge.ch
SUMMARY:Examens MPA 2020
DESCRIPTION:
URL:https://imd-ge.ch/event/examens-mpa-2020/
CATEGORIES:Jours NON-CFC
END:VEVENT
BEGIN:VEVENT
DTSTART;VALUE=DATE:20200529
DTEND;VALUE=DATE:20200530
DTSTAMP:20260423T130646
CREATED:20191001T093532Z
LAST-MODIFIED:20191001T093532Z
UID:309-1590710400-1590796799@imd-ge.ch
SUMMARY:Examens Culture Générale 2020
DESCRIPTION:
URL:https://imd-ge.ch/event/examens-culture-generale-2020/
CATEGORIES:Jours NON-CFC
END:VEVENT
END:VCALENDAR