BEGIN:VCALENDAR
VERSION:2.0
PRODID:-//IMD Genève - ECPv6.15.16//NONSGML v1.0//EN
CALSCALE:GREGORIAN
METHOD:PUBLISH
X-ORIGINAL-URL:https://imd-ge.ch
X-WR-CALDESC:Évènements pour IMD Genève
REFRESH-INTERVAL;VALUE=DURATION:PT1H
X-Robots-Tag:noindex
X-PUBLISHED-TTL:PT1H
BEGIN:VTIMEZONE
TZID:Europe/Paris
BEGIN:DAYLIGHT
TZOFFSETFROM:+0100
TZOFFSETTO:+0200
TZNAME:CEST
DTSTART:20190331T010000
END:DAYLIGHT
BEGIN:STANDARD
TZOFFSETFROM:+0200
TZOFFSETTO:+0100
TZNAME:CET
DTSTART:20191027T010000
END:STANDARD
BEGIN:DAYLIGHT
TZOFFSETFROM:+0100
TZOFFSETTO:+0200
TZNAME:CEST
DTSTART:20200329T010000
END:DAYLIGHT
BEGIN:STANDARD
TZOFFSETFROM:+0200
TZOFFSETTO:+0100
TZNAME:CET
DTSTART:20201025T010000
END:STANDARD
BEGIN:DAYLIGHT
TZOFFSETFROM:+0100
TZOFFSETTO:+0200
TZNAME:CEST
DTSTART:20210328T010000
END:DAYLIGHT
BEGIN:STANDARD
TZOFFSETFROM:+0200
TZOFFSETTO:+0100
TZNAME:CET
DTSTART:20211031T010000
END:STANDARD
END:VTIMEZONE
BEGIN:VEVENT
DTSTART;VALUE=DATE:20200601
DTEND;VALUE=DATE:20200602
DTSTAMP:20260423T115114
CREATED:20191001T094358Z
LAST-MODIFIED:20191001T094358Z
UID:323-1590969600-1591055999@imd-ge.ch
SUMMARY:Pentecôte
DESCRIPTION:
URL:https://imd-ge.ch/event/pentecote-2/
CATEGORIES:Jours NON-CFC
END:VEVENT
BEGIN:VEVENT
DTSTART;VALUE=DATE:20200602
DTEND;VALUE=DATE:20200606
DTSTAMP:20260423T115114
CREATED:20191001T094453Z
LAST-MODIFIED:20191001T094453Z
UID:327-1591056000-1591401599@imd-ge.ch
SUMMARY:CFC2020 - TPI   8H
DESCRIPTION:
URL:https://imd-ge.ch/event/cfc2020-tpi-8h-5/
LOCATION:Salle 307\, Rue Necker 2\, Genève\, 1201\, Suisse
END:VEVENT
BEGIN:VEVENT
DTSTART;VALUE=DATE:20200608
DTEND;VALUE=DATE:20200613
DTSTAMP:20260423T115114
CREATED:20191001T094529Z
LAST-MODIFIED:20191001T094529Z
UID:329-1591574400-1592006399@imd-ge.ch
SUMMARY:CFC2020 - TPI   8H
DESCRIPTION:
URL:https://imd-ge.ch/event/cfc2020-tpi-8h-6/
LOCATION:Salle 307\, Rue Necker 2\, Genève\, 1201\, Suisse
END:VEVENT
BEGIN:VEVENT
DTSTART;TZID=Europe/Paris:20200609T170000
DTEND;TZID=Europe/Paris:20200609T170000
DTSTAMP:20260423T115114
CREATED:20200508T083220Z
LAST-MODIFIED:20200508T083353Z
UID:367-1591722000-1591722000@imd-ge.ch
SUMMARY:Rendu Portfolio 2020
DESCRIPTION:
URL:https://imd-ge.ch/event/rendu-portfolio-2020/
CATEGORIES:CFC 2020 - SPECIAL
END:VEVENT
BEGIN:VEVENT
DTSTART;TZID=Europe/Paris:20200612T173000
DTEND;TZID=Europe/Paris:20200612T173000
DTSTAMP:20260423T115114
CREATED:20191008T100150Z
LAST-MODIFIED:20191008T100150Z
UID:347-1591983000-1591983000@imd-ge.ch
SUMMARY:CFC2020 - Rendu du TPI
DESCRIPTION:
URL:https://imd-ge.ch/event/cfc2020-rendu-du-tpi/
END:VEVENT
BEGIN:VEVENT
DTSTART;TZID=Europe/Paris:20200615T080000
DTEND;TZID=Europe/Paris:20200615T170000
DTSTAMP:20260423T115114
CREATED:20191001T094648Z
LAST-MODIFIED:20191001T094648Z
UID:331-1592208000-1592240400@imd-ge.ch
SUMMARY:CFC2020 - Evaluation du TPI par les supérieurs (positions 1 et 2)
DESCRIPTION:
URL:https://imd-ge.ch/event/cfc2020-evaluation-du-tpi-par-les-superieurs-positions-1-et-2/
CATEGORIES:valuation SUPERIEURS
END:VEVENT
BEGIN:VEVENT
DTSTART;TZID=Europe/Paris:20200616T080000
DTEND;TZID=Europe/Paris:20200616T170000
DTSTAMP:20260423T115114
CREATED:20191008T095355Z
LAST-MODIFIED:20191008T095728Z
UID:333-1592294400-1592326800@imd-ge.ch
SUMMARY:CFC2020 - Experts: prise de connaissances des travaux
DESCRIPTION:
URL:https://imd-ge.ch/event/experts-prise-de-connaissances-des-travaux-2/
CATEGORIES:Evaluation EXPERTS
END:VEVENT
BEGIN:VEVENT
DTSTART;TZID=Europe/Paris:20200618T080000
DTEND;TZID=Europe/Paris:20200618T170000
DTSTAMP:20260423T115114
CREATED:20191008T095808Z
LAST-MODIFIED:20191008T095901Z
UID:341-1592467200-1592499600@imd-ge.ch
SUMMARY:CFC2020 - Séance Débriefing – Échanges Experts-Formateurs
DESCRIPTION:
URL:https://imd-ge.ch/event/cfc2020-seance-debriefing-echanges-experts-formateurs/
CATEGORIES:valuation SUPERIEURS
END:VEVENT
BEGIN:VEVENT
DTSTART;TZID=Europe/Paris:20200618T080000
DTEND;TZID=Europe/Paris:20200618T170000
DTSTAMP:20260423T115114
CREATED:20191008T095848Z
LAST-MODIFIED:20191008T095848Z
UID:343-1592467200-1592499600@imd-ge.ch
SUMMARY:CFC2020 - Séance Débriefing – Échanges Experts-Formateurs
DESCRIPTION:
URL:https://imd-ge.ch/event/cfc2020-seance-debriefing-echanges-experts-formateurs-2/
CATEGORIES:Evaluation EXPERTS
END:VEVENT
BEGIN:VEVENT
DTSTART;VALUE=DATE:20200619
DTEND;VALUE=DATE:20200620
DTSTAMP:20260423T115114
CREATED:20191008T100035Z
LAST-MODIFIED:20191008T100035Z
UID:345-1592524800-1592611199@imd-ge.ch
SUMMARY:CFC2020 - Transmission des résultats à l'OFPC
DESCRIPTION:
URL:https://imd-ge.ch/event/cfc2020-transmission-des-resultats-a-lofpc/
END:VEVENT
END:VCALENDAR